BEGIN:VCALENDAR
VERSION:2.0
PRODID:icalendar-ruby
CALSCALE:GREGORIAN
METHOD:PUBLISH
BEGIN:VEVENT
DTSTAMP:20260420T065647Z
UID:10-529402@moraviapresbyterianchurch.com
DTSTART:20260926T220000Z
DTEND:20260926T233000Z
CLASS:PUBLIC
CREATED:20260420T000448
DESCRIPTION:Join us in person or on our live stream for our Saturday evenin
 g Contemporary Worship Service.
LAST-MODIFIED:20260420T000448
LOCATION:Church Sanctuary
SUMMARY:Contemporary Worship Service
URL;VALUE=URI:https://www.moraviapresbyterianchurch.com/events/contemporary
 -worship-service--10/2026-09-26
END:VEVENT
END:VCALENDAR
