BEGIN:VCALENDAR
VERSION:2.0
PRODID:icalendar-ruby
CALSCALE:GREGORIAN
METHOD:PUBLISH
BEGIN:VEVENT
DTSTAMP:20260420T121019Z
UID:10-529879@moraviapresbyterianchurch.com
DTSTART:20261017T220000Z
DTEND:20261017T233000Z
CLASS:PUBLIC
CREATED:20260420T034209
DESCRIPTION:Join us in person or on our live stream for our Saturday evenin
 g Contemporary Worship Service.
LAST-MODIFIED:20260420T034209
LOCATION:Church Sanctuary
SUMMARY:Contemporary Worship Service
URL;VALUE=URI:https://www.moraviapresbyterianchurch.com/events/contemporary
 -worship-service--10/2026-10-17
END:VEVENT
END:VCALENDAR
