BEGIN:VCALENDAR
VERSION:2.0
PRODID:icalendar-ruby
CALSCALE:GREGORIAN
METHOD:PUBLISH
BEGIN:VEVENT
DTSTAMP:20260422T111428Z
UID:11-535652@moraviapresbyterianchurch.com
DTSTART:20260921T120000Z
DTEND:20260921T140000Z
CLASS:PUBLIC
CREATED:20260421T212920
DESCRIPTION:
LAST-MODIFIED:20260421T212920
LOCATION:Church Fellowship Hall
SUMMARY:Free Coffee Monday
URL;VALUE=URI:https://www.moraviapresbyterianchurch.com/events/free-coffee-
 monday/2026-09-21
END:VEVENT
END:VCALENDAR
