BEGIN:VCALENDAR
VERSION:2.0
PRODID:icalendar-ruby
CALSCALE:GREGORIAN
METHOD:PUBLISH
BEGIN:VEVENT
DTSTAMP:20260422T140139Z
UID:11-536129@moraviapresbyterianchurch.com
DTSTART:20261005T120000Z
DTEND:20261005T140000Z
CLASS:PUBLIC
CREATED:20260422T083705
DESCRIPTION:
LAST-MODIFIED:20260422T083705
LOCATION:Church Fellowship Hall
SUMMARY:Free Coffee Monday
URL;VALUE=URI:https://www.moraviapresbyterianchurch.com/events/free-coffee-
 monday/2026-10-05
END:VEVENT
END:VCALENDAR
