BEGIN:VCALENDAR
VERSION:2.0
PRODID:icalendar-ruby
CALSCALE:GREGORIAN
METHOD:PUBLISH
BEGIN:VEVENT
DTSTAMP:20260422T154758Z
UID:11-536605@moraviapresbyterianchurch.com
DTSTART:20261012T120000Z
DTEND:20261012T140000Z
CLASS:PUBLIC
CREATED:20260422T113221
DESCRIPTION:
LAST-MODIFIED:20260422T113221
LOCATION:Church Fellowship Hall
SUMMARY:Free Coffee Monday
URL;VALUE=URI:https://www.moraviapresbyterianchurch.com/events/free-coffee-
 monday/2026-10-12
END:VEVENT
END:VCALENDAR
