BEGIN:VCALENDAR
VERSION:2.0
PRODID:icalendar-ruby
CALSCALE:GREGORIAN
METHOD:PUBLISH
BEGIN:VEVENT
DTSTAMP:20260422T195638Z
UID:11-537083@moraviapresbyterianchurch.com
DTSTART:20261102T130000Z
DTEND:20261102T150000Z
CLASS:PUBLIC
CREATED:20260422T142658
DESCRIPTION:
LAST-MODIFIED:20260422T142658
LOCATION:Church Fellowship Hall
SUMMARY:Free Coffee Monday
URL;VALUE=URI:https://www.moraviapresbyterianchurch.com/events/free-coffee-
 monday/2026-11-02
END:VEVENT
END:VCALENDAR
